BEGIN:VCALENDAR
CALSCALE:GREGORIAN
VERSION:2.0
X-WR-CALNAME:Bug triage
METHOD:PUBLISH
PRODID:-//Apple Inc.//Mac OS X 10.8.5//EN
BEGIN:VTIMEZONE
TZID:America/Toronto
BEGIN:DAYLIGHT
TZOFFSETFROM:-0500
RRULE:FREQ=YEARLY;BYMONTH=3;BYDAY=2SU
DTSTART:20070311T020000
TZNAME:EDT
TZOFFSETTO:-0400
END:DAYLIGHT
BEGIN:STANDARD
TZOFFSETFROM:-0400
RRULE:FREQ=YEARLY;BYMONTH=11;BYDAY=1SU
DTSTART:20071104T020000
TZNAME:EST
TZOFFSETTO:-0500
END:STANDARD
END:VTIMEZONE
BEGIN:VEVENT
CREATED:20141121T211212Z
UID:E923FC99-E40C-4365-8BB6-242FD67F7E02
DTEND;TZID=America/Toronto:20141126T143000
RRULE:FREQ=WEEKLY;INTERVAL=1
TRANSP:OPAQUE
SUMMARY:Bug triage
DTSTART;TZID=America/Toronto:20141126T140000
DTSTAMP:20141121T214521Z
LOCATION:#Webmaker vidyo
SEQUENCE:8
DESCRIPTION:https://bugzilla.mozilla.org/buglist.cgi?cmdtype=dorem&remac
 tion=run&namedcmd=Webmaker%20Triage&sharer_id=295658&list_id=11609385
BEGIN:VALARM
X-WR-ALARMUID:D6948A8C-793D-4C16-ADDE-B3FF6F517C08
UID:D6948A8C-793D-4C16-ADDE-B3FF6F517C08
TRIGGER;VALUE=DATE-TIME:19760401T005545Z
X-APPLE-DEFAULT-ALARM:TRUE
ACTION:NONE
END:VALARM
END:VEVENT
END:VCALENDAR
