BEGIN:VCALENDAR
PRODID:-//Google Inc//Google Calendar 70.9054//EN
VERSION:2.0
CALSCALE:GREGORIAN
METHOD:REQUEST
BEGIN:VTIMEZONE
TZID:America/Los_Angeles
X-LIC-LOCATION:America/Los_Angeles
BEGIN:DAYLIGHT
TZOFFSETFROM:-0800
TZOFFSETTO:-0700
TZNAME:PDT
DTSTART:19700308T020000
RRULE:FREQ=YEARLY;BYMONTH=3;BYDAY=2SU
END:DAYLIGHT
BEGIN:STANDARD
TZOFFSETFROM:-0700
TZOFFSETTO:-0800
TZNAME:PST
DTSTART:19701101T020000
RRULE:FREQ=YEARLY;BYMONTH=11;BYDAY=1SU
END:STANDARD
END:VTIMEZONE
BEGIN:VEVENT
DTSTART;TZID=America/Los_Angeles:20150112T120000
DTEND;TZID=America/Los_Angeles:20150112T130000
RRULE:FREQ=WEEKLY;BYDAY=MO
DTSTAMP:20150106T015026Z
ORGANIZER;CN=Christopher Karlof:mailto:ckarlof@mozilla.com
UID:0dv5bu72nf3v65cnlpi1ppr5cc@google.com
ATTENDEE;CUTYPE=INDIVIDUAL;ROLE=REQ-PARTICIPANT;PARTSTAT=NEEDS-ACTION;RSVP=
 TRUE;CN=Margaret Leibovic;X-NUM-GUESTS=0:mailto:mleibovic@mozilla.com
ATTENDEE;CUTYPE=INDIVIDUAL;ROLE=REQ-PARTICIPANT;PARTSTAT=NEEDS-ACTION;RSVP=
 TRUE;CN=Ryan Feeley;X-NUM-GUESTS=0:mailto:rfeeley@mozilla.com
ATTENDEE;CUTYPE=INDIVIDUAL;ROLE=REQ-PARTICIPANT;PARTSTAT=NEEDS-ACTION;RSVP=
 TRUE;CN=Mark Finkle;X-NUM-GUESTS=0:mailto:mfinkle@mozilla.com
ATTENDEE;CUTYPE=INDIVIDUAL;ROLE=REQ-PARTICIPANT;PARTSTAT=NEEDS-ACTION;RSVP=
 TRUE;CN=Gavin Sharp;X-NUM-GUESTS=0:mailto:gsharp@mozilla.com
ATTENDEE;CUTYPE=INDIVIDUAL;ROLE=REQ-PARTICIPANT;PARTSTAT=NEEDS-ACTION;RSVP=
 TRUE;CN=Tanvi Vyas;X-NUM-GUESTS=0:mailto:tvyas@mozilla.com
ATTENDEE;CUTYPE=INDIVIDUAL;ROLE=REQ-PARTICIPANT;PARTSTAT=NEEDS-ACTION;RSVP=
 TRUE;CN=William Maggs;X-NUM-GUESTS=0:mailto:bill@mozilla.com
ATTENDEE;CUTYPE=INDIVIDUAL;ROLE=REQ-PARTICIPANT;PARTSTAT=NEEDS-ACTION;RSVP=
 TRUE;CN=Matthew Noorenberghe;X-NUM-GUESTS=0:mailto:mnoorenberghe@mozilla.co
 m
ATTENDEE;CUTYPE=RESOURCE;ROLE=REQ-PARTICIPANT;PARTSTAT=NEEDS-ACTION;RSVP=TR
 UE;CN=SFO7 - 704 7N Noise Pop - Vidyo - Seats 8;X-NUM-GUESTS=0:mailto:mozil
 la.com_73666f373034@resource.calendar.google.com
ATTENDEE;CUTYPE=INDIVIDUAL;ROLE=REQ-PARTICIPANT;PARTSTAT=NEEDS-ACTION;RSVP=
 TRUE;CN=Chenxia Liu;X-NUM-GUESTS=0:mailto:cliu@mozilla.com
ATTENDEE;CUTYPE=INDIVIDUAL;ROLE=REQ-PARTICIPANT;PARTSTAT=NEEDS-ACTION;RSVP=
 TRUE;CN=Bryan Clark;X-NUM-GUESTS=0:mailto:bclark@mozilla.com
ATTENDEE;CUTYPE=INDIVIDUAL;ROLE=REQ-PARTICIPANT;PARTSTAT=ACCEPTED;RSVP=TRUE
 ;CN=Christopher Karlof;X-NUM-GUESTS=0:mailto:ckarlof@mozilla.com
ATTENDEE;CUTYPE=INDIVIDUAL;ROLE=REQ-PARTICIPANT;PARTSTAT=NEEDS-ACTION;RSVP=
 TRUE;CN=passwords-dev@mozilla.org;X-NUM-GUESTS=0:mailto:passwords-dev@mozil
 la.org
ATTENDEE;CUTYPE=INDIVIDUAL;ROLE=REQ-PARTICIPANT;PARTSTAT=NEEDS-ACTION;RSVP=
 TRUE;CN=Stuart Philp;X-NUM-GUESTS=0:mailto:sphilp@mozilla.com
ATTENDEE;CUTYPE=INDIVIDUAL;ROLE=REQ-PARTICIPANT;PARTSTAT=NEEDS-ACTION;RSVP=
 TRUE;CN=Justin Dolske;X-NUM-GUESTS=0:mailto:jdolske@mozilla.com
ATTENDEE;CUTYPE=INDIVIDUAL;ROLE=REQ-PARTICIPANT;PARTSTAT=NEEDS-ACTION;RSVP=
 TRUE;CN=Deb Richardson;X-NUM-GUESTS=0:mailto:deb@mozilla.com
ATTENDEE;CUTYPE=INDIVIDUAL;ROLE=REQ-PARTICIPANT;PARTSTAT=NEEDS-ACTION;RSVP=
 TRUE;CN=Edwin Wong;X-NUM-GUESTS=0:mailto:edwong@mozilla.com
ATTENDEE;CUTYPE=RESOURCE;ROLE=REQ-PARTICIPANT;PARTSTAT=NEEDS-ACTION;RSVP=TR
 UE;CN=VidyoRoom - Identity;X-NUM-GUESTS=0:mailto:mozilla.com_766964796f3133
 36@resource.calendar.google.com
CREATED:20150106T015026Z
DESCRIPTION:View your event at https://www.google.com/calendar/event?action
 =VIEW&eid=MGR2NWJ1NzJuZjN2NjVjbmxwaTFwcHI1Y2MgcGFzc3dvcmRzLWRldkBtb3ppbGxhL
 m9yZw&tok=MTkjY2thcmxvZkBtb3ppbGxhLmNvbTgzOTUyMzYzNTQ0MzBmNmE3YzczY2EwN2ZjZ
 DFhMWFjZDNkMDlhOTA&ctz=America/Los_Angeles&hl=en.
LAST-MODIFIED:20150106T015026Z
LOCATION:VidyoRoom - Identity\, mozilla.com_73666f373034@resource.calendar.
 google.com
SEQUENCE:0
STATUS:CONFIRMED
SUMMARY:Password manager weekly
TRANSP:OPAQUE
END:VEVENT
END:VCALENDAR
