BEGIN:VCALENDAR
PRODID:-//Google Inc//Google Calendar 70.9054//EN
VERSION:2.0
CALSCALE:GREGORIAN
METHOD:REQUEST
BEGIN:VEVENT
DTSTART:20150105T200000Z
DTEND:20150105T210000Z
DTSTAMP:20141231T180022Z
ORGANIZER;CN=Christopher Karlof:mailto:ckarlof@mozilla.com
UID:hcluflr97gbflr221e3pmv0aik@google.com
ATTENDEE;CUTYPE=INDIVIDUAL;ROLE=REQ-PARTICIPANT;PARTSTAT=NEEDS-ACTION;RSVP=
 TRUE;CN=Ryan Feeley;X-NUM-GUESTS=0:mailto:rfeeley@mozilla.com
ATTENDEE;CUTYPE=INDIVIDUAL;ROLE=REQ-PARTICIPANT;PARTSTAT=NEEDS-ACTION;RSVP=
 TRUE;CN=Margaret Leibovic;X-NUM-GUESTS=0:mailto:mleibovic@mozilla.com
ATTENDEE;CUTYPE=INDIVIDUAL;ROLE=REQ-PARTICIPANT;PARTSTAT=ACCEPTED;RSVP=TRUE
 ;CN=Christopher Karlof;X-NUM-GUESTS=0:mailto:ckarlof@mozilla.com
ATTENDEE;CUTYPE=INDIVIDUAL;ROLE=REQ-PARTICIPANT;PARTSTAT=ACCEPTED;RSVP=TRUE
 ;CN=Mark Finkle;X-NUM-GUESTS=0:mailto:mfinkle@mozilla.com
ATTENDEE;CUTYPE=INDIVIDUAL;ROLE=REQ-PARTICIPANT;PARTSTAT=NEEDS-ACTION;RSVP=
 TRUE;CN=Justin Dolske;X-NUM-GUESTS=0:mailto:jdolske@mozilla.com
ATTENDEE;CUTYPE=INDIVIDUAL;ROLE=REQ-PARTICIPANT;PARTSTAT=NEEDS-ACTION;RSVP=
 TRUE;CN=Deb Richardson;X-NUM-GUESTS=0:mailto:deb@mozilla.com
ATTENDEE;CUTYPE=INDIVIDUAL;ROLE=REQ-PARTICIPANT;PARTSTAT=NEEDS-ACTION;RSVP=
 TRUE;CN=Gavin Sharp;X-NUM-GUESTS=0:mailto:gsharp@mozilla.com
ATTENDEE;CUTYPE=INDIVIDUAL;ROLE=REQ-PARTICIPANT;PARTSTAT=ACCEPTED;RSVP=TRUE
 ;CN=Tanvi Vyas;X-NUM-GUESTS=0:mailto:tvyas@mozilla.com
ATTENDEE;CUTYPE=INDIVIDUAL;ROLE=REQ-PARTICIPANT;PARTSTAT=ACCEPTED;RSVP=TRUE
 ;CN=William Maggs;X-NUM-GUESTS=0:mailto:bill@mozilla.com
ATTENDEE;CUTYPE=INDIVIDUAL;ROLE=REQ-PARTICIPANT;PARTSTAT=NEEDS-ACTION;RSVP=
 TRUE;CN=Matthew Noorenberghe;X-NUM-GUESTS=0:mailto:mnoorenberghe@mozilla.co
 m
ATTENDEE;CUTYPE=INDIVIDUAL;ROLE=REQ-PARTICIPANT;PARTSTAT=NEEDS-ACTION;RSVP=
 TRUE;CN=Edwin Wong;X-NUM-GUESTS=0:mailto:edwong@mozilla.com
ATTENDEE;CUTYPE=RESOURCE;ROLE=REQ-PARTICIPANT;PARTSTAT=ACCEPTED;RSVP=TRUE;C
 N=VidyoRoom - Identity;X-NUM-GUESTS=0:mailto:mozilla.com_766964796f313336@r
 esource.calendar.google.com
ATTENDEE;CUTYPE=INDIVIDUAL;ROLE=REQ-PARTICIPANT;PARTSTAT=NEEDS-ACTION;RSVP=
 TRUE;CN=Bryan Clark;X-NUM-GUESTS=0:mailto:bclark@mozilla.com
ATTENDEE;CUTYPE=INDIVIDUAL;ROLE=REQ-PARTICIPANT;PARTSTAT=NEEDS-ACTION;RSVP=
 TRUE;CN=passwords-dev@mozilla.org;X-NUM-GUESTS=0:mailto:passwords-dev@mozil
 la.org
CREATED:20141231T031758Z
DESCRIPTION:View your event at https://www.google.com/calendar/event?action
 =VIEW&eid=aGNsdWZscjk3Z2JmbHIyMjFlM3BtdjBhaWsgcGFzc3dvcmRzLWRldkBtb3ppbGxhL
 m9yZw&tok=MTkjY2thcmxvZkBtb3ppbGxhLmNvbWYzYjUwZWIzYTE1M2FmYjcxNDcyNDNhMTI1Y
 TQ5NmUzMzBkNTMyNzg&ctz=America/Los_Angeles&hl=en.
LAST-MODIFIED:20141231T180022Z
LOCATION:VidyoRoom - Identity
SEQUENCE:0
STATUS:CONFIRMED
SUMMARY:Password manager 2015 kickoff
TRANSP:OPAQUE
END:VEVENT
END:VCALENDAR
