BEGIN:VCALENDAR
METHOD:REQUEST
PRODID:Microsoft Exchange Server 2010
VERSION:2.0
BEGIN:VTIMEZONE
TZID:Eastern Standard Time
BEGIN:STANDARD
DTSTART:16010101T020000
TZOFFSETFROM:-0400
TZOFFSETTO:-0500
RRULE:FREQ=YEARLY;INTERVAL=1;BYDAY=1SU;BYMONTH=11
END:STANDARD
BEGIN:DAYLIGHT
DTSTART:16010101T020000
TZOFFSETFROM:-0500
TZOFFSETTO:-0400
RRULE:FREQ=YEARLY;INTERVAL=1;BYDAY=2SU;BYMONTH=3
END:DAYLIGHT
END:VTIMEZONE
BEGIN:VEVENT
ORGANIZER;CN="Chandramouliswaran, Ishwar (NIH/NCI) [E]":MAILTO:ishwar.chandra
 mouliswaran@nih.gov
ATTENDEE;ROLE=REQ-PARTICIPANT;PARTSTAT=NEEDS-ACTION;RSVP=TRUE;CN=Kaitlin Th
 aney:MAILTO:kaitlin@mozillafoundation.org
ATTENDEE;ROLE=REQ-PARTICIPANT;PARTSTAT=NEEDS-ACTION;RSVP=TRUE;CN=mozillasci
 ence@mozilla.org:MAILTO:mozillascience@mozilla.org
DESCRIPTION;LANGUAGE=en-US:When: Thursday\, November 13\, 2014 11:00 AM-12:
 00 PM. (UTC-05:00) Eastern Time (US & Canada)\n\n*~*~*~*~*~*~*~*~*~*\n\nHi
  all!\n\nOur next community call<https://etherpad.mozilla.org/sciencelab-c
 alls-nov13-2014> will take place next Thursday\, November 13. The call is 
 open to the public and will start at 11:00 am ET. Call in details can be f
 ound on the call etherpad<https://etherpad.mozilla.org/sciencelab-calls-no
 v13-2014> (where you can also find notes and the agenda) and on the wiki<h
 ttps://wiki.mozilla.org/ScienceLab/Calls>. (If you have trouble with the t
 oll-free number\, try one of the numbers at the bottom of this post.)\n\nT
 he Science Lab meeting is our community call<https://wiki.mozilla.org/Scie
 nceLab/Calls>\, taking place each month\, highlighting recent developments
  and work of the community relevant to science and the web. Join us to hea
 r more about current projects\, find out how you can get involved\, and he
 ar from others about their work in and around open research.\n\nThis month
 \, we'll be hearing from a number of community members on how they spur en
 gagement and foster learning in their work.\n\nOn this topic\, we'll hear 
 from Demitiri Muna (@demitrimuna<http://twitter.com/demitrimuna>) from Ohi
 o State University on the work they're doing with Trillian<http://collabor
 ate.mozillascience.org/projects/trillian> (one of the projects you can get
  involved with via our new Collaborate page<http://collaborate.mozillascie
 nce.org/>). He's been working to make open data in astronomy usable and ha
 s teamed up with Max Ogden<http://twitter.com/maxogden> from Dat<http://da
 t-data.com/> to explore new ways of making this happen.\n\nWe'll also hear
  from Jake Vanderplas<http://twitter.com/jakevdp>\, the director of resear
 ch for University of Washington's new Data Science Environment<http://esci
 ence.washington.edu/blog/introducing-data-science-environment> funded by t
 he Sloan and Moore Foundations. They have a neat new data science incubato
 r they're running to provide support to researchers at UW. Do tune in.\n\n
 And last but not least\, we'll be joined by astronomer and TED Fellow Luci
 anne Walkowicz<http://twitter.com/shaka_lulu> from the Adler Planetarium<h
 ttp://www.adlerplanetarium.org/> in Chicago. She'll be updating us on some
  of her work in bringing astronomy to the masses as well as giving us a sn
 eak peak to .Astronomy<http://dotastronomy.com/> - an event coming to the 
 Adler this December.\n\nHave an update\, blog post or event you'd like to 
 share relevant to open science? Add it to the etherpad<https://etherpad.mo
 zilla.org/sciencelab-calls-nov13-2014> (see 'Non Verbal Updates'\, line ~1
 07). It's a great way to share what you're working on and/or interested in
  with the community. Don't be shy. Have a look at last month's notes<https
 ://etherpad.mozilla.org/sciencelab-calls-oct9-2014> for an idea of what ot
 hers contributed to the conversation.\n\nMark your calendars\, tune in and
  help us spread the word - everyone is welcome. For call-in details and li
 nks to the etherpad<https://etherpad.mozilla.org/sciencelab-calls-nov13-20
 14>\, visit our wiki page<https://wiki.mozilla.org/ScienceLab/Calls>. We h
 ope you'll join us.\n\n--\nNote: Having trouble dialing in? Try one of the
 se numbers. (Note that they are toll calls and you'll be charged by your t
 elephone company if the number is long-distance.)\nAfter you enter the ext
 ension\, you'll be asked for the conference ID\, which is 7677.\n\n   *   
 US/California/Mountain View: +1 650 903 0800\, extension 92\n   *   US/Cal
 ifornia/San Francisco: +1 415 762 5700\, extension 92\n   *   US/Oregon/Po
 rtland: +1 971 544 8000\, extension 92\n   *   CA/Vancouver: +1 778 785 15
 40\, extension 92\n   *   CA/Toronto: +1 416 848 3114\, extension 92\n   *
    UK/London: +44 (0)207 855 3000\, extension 92\n   *   FR/Paris: +33 1 4
 4 79 34 80\, extension 92\n\n\n--\nKaitlin Thaney\nDirector\, Mozilla Scie
 nce Lab\n\n@kaythaney \; @MozillaScience\nskype / IRC: kaythaney\n\n\n\n\n
 \n\n\n
SUMMARY;LANGUAGE=en-US:Fostering engagement and learning in science - Nov. 
 13 (11 ET)
DTSTART;TZID=Eastern Standard Time:20141113T110000
DTEND;TZID=Eastern Standard Time:20141113T120000
UID:6FF7E40B-1CC8-40B4-9853-7AA99B43B636
CLASS:PUBLIC
PRIORITY:5
DTSTAMP:20141110T140329Z
TRANSP:OPAQUE
STATUS:CONFIRMED
SEQUENCE:0
X-MICROSOFT-CDO-APPT-SEQUENCE:0
X-MICROSOFT-CDO-OWNERAPPTID:2112574941
X-MICROSOFT-CDO-BUSYSTATUS:TENTATIVE
X-MICROSOFT-CDO-INTENDEDSTATUS:BUSY
X-MICROSOFT-CDO-ALLDAYEVENT:FALSE
X-MICROSOFT-CDO-IMPORTANCE:1
X-MICROSOFT-CDO-INSTTYPE:0
X-MICROSOFT-DISALLOW-COUNTER:FALSE
BEGIN:VALARM
ACTION:DISPLAY
DESCRIPTION:REMINDER
TRIGGER;RELATED=START:-PT15M
END:VALARM
END:VEVENT
END:VCALENDAR
