BEGIN:VCALENDAR
PRODID:Zimbra-Calendar-Provider
VERSION:2.0
METHOD:REQUEST
BEGIN:VTIMEZONE
TZID:America/Los_Angeles
BEGIN:STANDARD
DTSTART:16010101T020000
TZOFFSETTO:-0800
TZOFFSETFROM:-0700
RRULE:FREQ=YEARLY;WKST=MO;INTERVAL=1;BYMONTH=11;BYDAY=1SU
TZNAME:PST
END:STANDARD
BEGIN:DAYLIGHT
DTSTART:16010101T020000
TZOFFSETTO:-0700
TZOFFSETFROM:-0800
RRULE:FREQ=YEARLY;WKST=MO;INTERVAL=1;BYMONTH=3;BYDAY=2SU
TZNAME:PDT
END:DAYLIGHT
END:VTIMEZONE
BEGIN:VEVENT
UID:7749EACC-8916-4694-9E4A-BCB75F9FD54C
SUMMARY:Mastering Version Control
LOCATION:Ballroom F Back Area
ATTENDEE;CN=Allison Naaktgeboren;ROLE=REQ-PARTICIPANT;PARTSTAT=NEEDS-ACTION;
 RSVP=TRUE:mailto:anaaktgeboren@mozilla.com
ATTENDEE;ROLE=REQ-PARTICIPANT;PARTSTAT=NEEDS-ACTION;RSVP=TRUE:mailto:cpeters
 o@mozilla.com
ATTENDEE;CN=Hal Wine;ROLE=REQ-PARTICIPANT;PARTSTAT=NEEDS-ACTION;RSVP=TRUE:ma
 ilto:hwine@mozilla.com
ATTENDEE;CN=Javaun Moradi;ROLE=REQ-PARTICIPANT;PARTSTAT=NEEDS-ACTION;RSVP=TR
 UE:mailto:jmoradi@mozilla.com
ATTENDEE;CN=Nick Alexander;ROLE=REQ-PARTICIPANT;PARTSTAT=NEEDS-ACTION;RSVP=T
 RUE:mailto:nalexander@mozilla.com
ATTENDEE;CN=Daniel Minor;ROLE=REQ-PARTICIPANT;PARTSTAT=NEEDS-ACTION;RSVP=TRU
 E:mailto:dminor@mozilla.com
ATTENDEE;CN=Botond Ballo;ROLE=REQ-PARTICIPANT;PARTSTAT=NEEDS-ACTION;RSVP=TRU
 E:mailto:bballo@mozilla.com
ATTENDEE;CN=Marco Mucci;ROLE=REQ-PARTICIPANT;PARTSTAT=NEEDS-ACTION;RSVP=TRUE
 :mailto:mmucci@mozilla.com
ATTENDEE;CN=Jared Wein;ROLE=REQ-PARTICIPANT;PARTSTAT=NEEDS-ACTION;RSVP=TRUE:
 mailto:jaws@mozilla.com
ATTENDEE;CN=mozilla.dev.platform group;ROLE=OPT-PARTICIPANT;PARTSTAT=NEEDS-A
 CTION;RSVP=TRUE:mailto:dev-platform@lists.mozilla.org
ATTENDEE;ROLE=OPT-PARTICIPANT;PARTSTAT=NEEDS-ACTION;RSVP=TRUE:mailto:release
 -engineering@lists.mozilla.org
ATTENDEE;CN=Firefox Dev;ROLE=OPT-PARTICIPANT;PARTSTAT=NEEDS-ACTION;RSVP=TRUE
 :mailto:firefox-dev@mozilla.org
ATTENDEE;ROLE=OPT-PARTICIPANT;PARTSTAT=NEEDS-ACTION;RSVP=TRUE:mailto:version
 -control-dev@mozilla.org
ORGANIZER;CN=Gregory Szorc:mailto:gszorc@mozilla.com
DTSTART;TZID="America/Los_Angeles":20141204T170000
DTEND;TZID="America/Los_Angeles":20141204T180000
STATUS:CONFIRMED
CLASS:PUBLIC
X-MICROSOFT-CDO-INTENDEDSTATUS:BUSY
TRANSP:OPAQUE
LAST-MODIFIED:20141205T005925Z
DTSTAMP:20141205T005925Z
SEQUENCE:9
DESCRIPTION:The following meeting has been modified:\n\nSubject: Mastering V
 ersion Control \nOrganizer: "Gregory Szorc" <gszorc@mozilla.com> \n\nLocatio
 n: Ballroom F Back Area [MODIFIED]\nTime: Thursday\, December 4\, 2014\, 5:0
 0:00 PM - 6:00:00 PM GMT -08:00 US/Canada Pacific\n \nRequired: anaaktgebore
 n@mozilla.com\; cpeterso@mozilla.com\; hwine@mozilla.com\; jmoradi@mozilla.c
 om\; nalexander@mozilla.com\; dminor@mozilla.com\; bballo@mozilla.com\; mmuc
 ci@mozilla.com\; jaws@mozilla.com \nOptional: dev-platform@lists.mozilla.org
 \; release-engineering@lists.mozilla.org\; firefox-dev@mozilla.org\; version
 -control-dev@mozilla.org \n\n*~*~*~*~*~*~*~*~*~*\n\nLAST MINUTE MOVE BACK TO
  BALLROOM F (in the back).\n\nTHIS SESSION IS AT 5 PM\, NOT 4 PM AS SOME CAL
 ENDARS REPORT. \n\nIf you are a developer\, you interact with version contro
 l frequently. It is an important tool for you to master. \n\nIn this session
 \, I'll be talking about mastering version control at Mozilla\, with emphasi
 s on Mercurial\, the canonical version control system for Gecko and Firefox.
  \n\nTopics include: \n\n* The state of version control at Mozilla\, includi
 ng scaling Try \n* Doing feature development with heads/bookmarks (not MQ) a
 nd why this is better \n* Using revision sets and templates to turn Mercuria
 l into a query and reporting tool \n* Overview of MozReview and how it will 
 change how we write and land code for Firefox \n* Benefits of monolithic rep
 ositories \n* Working with a unified Firefox repository \n* New and upcoming
  Mercurial features\, including changeset evolution \n* Obligatory discussio
 n on using Git for Firefox development \n* How you can improve the tools use
 d by Mozilla \n\nThe talk isn't written yet. If you would like something cov
 ered\, let me know and I'll see about working it in. \n\nI'm entertaining th
 e idea of keeping the talk portion short and encouraging a vibrant discussio
 n / Q&A session / peer learning time. But we'll see. Send me your expectatio
 ns and I'll try to morph the time slot appropriately. \n\nGregory 
END:VEVENT
END:VCALENDAR