BEGIN:VCALENDAR
PRODID:Zimbra-Calendar-Provider
VERSION:2.0
METHOD:CANCEL
BEGIN:VTIMEZONE
TZID:America/Los_Angeles
BEGIN:STANDARD
DTSTART:16010101T020000
TZOFFSETTO:-0800
TZOFFSETFROM:-0700
RRULE:FREQ=YEARLY;WKST=MO;INTERVAL=1;BYMONTH=11;BYDAY=1SU
TZNAME:PST
END:STANDARD
BEGIN:DAYLIGHT
DTSTART:16010101T020000
TZOFFSETTO:-0700
TZOFFSETFROM:-0800
RRULE:FREQ=YEARLY;WKST=MO;INTERVAL=1;BYMONTH=3;BYDAY=2SU
TZNAME:PDT
END:DAYLIGHT
END:VTIMEZONE
BEGIN:VEVENT
UID:8e263fd7-d88a-4e8a-bd88-f33791baf5ac
SUMMARY:Cancelled: desktop backlog team triage
COMMENT:The following meeting has been cancelled:
LOCATION:Firefox vidyo room
ATTENDEE;CN=Benjamin Smedberg;CUTYPE=INDIVIDUAL;ROLE=REQ-PARTICIPANT;PARTSTA
 T=NEEDS-ACTION:mailto:bsmedberg@mozilla.com
ATTENDEE;CN=Chad Weiner;CUTYPE=INDIVIDUAL;ROLE=OPT-PARTICIPANT;PARTSTAT=NEED
 S-ACTION:mailto:cweiner@mozilla.com
ATTENDEE;CN=Jennifer Chaulk;CUTYPE=INDIVIDUAL;ROLE=OPT-PARTICIPANT;PARTSTAT=
 NEEDS-ACTION:mailto:jchaulk@mozilla.com
ATTENDEE;CN=Madhava Enros;CUTYPE=INDIVIDUAL;ROLE=OPT-PARTICIPANT;PARTSTAT=NE
 EDS-ACTION:mailto:madhava@mozilla.com
ATTENDEE;CN=Marco Mucci;CUTYPE=INDIVIDUAL;ROLE=OPT-PARTICIPANT;PARTSTAT=NEED
 S-ACTION:mailto:mmucci@mozilla.com
ATTENDEE;CN=firefox-dev;CUTYPE=INDIVIDUAL;ROLE=OPT-PARTICIPANT;PARTSTAT=NEED
 S-ACTION:mailto:firefox-dev@mozilla.org
ATTENDEE;CN=firefox-ux-team;CUTYPE=INDIVIDUAL;ROLE=REQ-PARTICIPANT;PARTSTAT=
 NEEDS-ACTION:mailto:firefox-ux-team@mozilla.com
ATTENDEE;CN=fx-desktop;CUTYPE=INDIVIDUAL;ROLE=REQ-PARTICIPANT;PARTSTAT=NEEDS
 -ACTION:mailto:fx-desktop@mozilla.com
ORGANIZER;CN=Gavin Sharp:mailto:gsharp@mozilla.com
DTSTART;TZID="America/Los_Angeles":20140812T090000
DTEND;TZID="America/Los_Angeles":20140812T093000
STATUS:CANCELLED
CLASS:PUBLIC
X-MICROSOFT-CDO-INTENDEDSTATUS:BUSY
TRANSP:OPAQUE
LAST-MODIFIED:20140917T150025Z
DTSTAMP:20140917T150025Z
SEQUENCE:1
DESCRIPTION:The following meeting has been cancelled:\n\nSubject: desktop ba
 cklog team triage \nOrganizer: gsharp@mozilla.com \n\nLocation: Firefox vidy
 o room \nTime: 9:00:00 AM - 9:30:00 AM GMT -08:00 US/Canada Pacific\n Recurr
 ence : Every 1 week(s) on  No end date Effective Aug 12\, 2014\n\nRequired: 
 bsmedberg@mozilla.com\; firefox-ux-team@mozilla.com\; fx-desktop@mozilla.com
  \nOptional: cweiner@mozilla.com\; jchaulk@mozilla.com\; madhava@mozilla.com
 \; mmucci@mozilla.com\; firefox-dev@mozilla.org \n\n*~*~*~*~*~*~*~*~*~*\n\nT
 his is an optional meeting for anyone interested in doing a group triage of 
 the desktop backlog nomination queue: \n\nhttps://bugzilla.mozilla.org/reque
 st.cgi?action=queue&type=firefox-backlog \n\nThe goals are: \n- foster a sha
 red understanding of what setting firefox-backlog+ means \n- ensure that we 
 triage the backlog nomination queue in a timely fashion \n- provide an oppor
 tunity to discuss bugs that are harder to decide on with a larger group \n\n
 The core dev team is of course welcome to triage nominations on their own ou
 tside of the meeting. If the queue is small enough\, we won't hold this meet
 ing. \n\nGavin 
X-ALT-DESC;FMTTYPE=text/html:<html><body id='htmlmode'><h3>The following mee
 ting has been cancelled:</h3>\n\n<p>\n<table border='0'>\n<tr><th align=left
 >Subject:</th><td>desktop backlog team triage </td></tr>\n<tr><th align=left
 >Organizer:</th><td>gsharp@mozilla.com </td></tr>\n</table>\n<p>\n<table bor
 der='0'>\n<tr><th align=left>Location:</th><td>Firefox vidyo room </td></tr>
 \n<tr><th align=left>Time:</th><td>9:00:00 AM - 9:30:00 AM GMT -08:00 US/Can
 ada Pacific\n </td></tr><tr><th align=left>Recurrence</th><td>: Every 1 week
 (s) on  No end date Effective Aug 12\, 2014</td></tr>\n</table>\n<p>\n<table
  border='0'>\n<tr><th align=left>Required:</th><td>bsmedberg@mozilla.com\; f
 irefox-ux-team@mozilla.com\; fx-desktop@mozilla.com </td></tr>\n<tr><th alig
 n=left>Optional:</th><td>cweiner@mozilla.com\; jchaulk@mozilla.com\; madhava
 @mozilla.com\; mmucci@mozilla.com\; firefox-dev@mozilla.org </td></tr></tabl
 e>\n<div>*~*~*~*~*~*~*~*~*~*</div><br>This is an optional meeting for anyone
  interested in doing a group triage of the desktop backlog nomination queue:
  <br><br>https://bugzilla.mozilla.org/request.cgi?action=queue&amp\;type=fir
 efox-backlog <br><br>The goals are: <br>- foster a shared understanding of w
 hat setting firefox-backlog+ means <br>- ensure that we triage the backlog n
 omination queue in a timely fashion <br>- provide an opportunity to discuss 
 bugs that are harder to decide on with a larger group <br><br>The core dev t
 eam is of course welcome to triage nominations on their own outside of the m
 eeting. If the queue is small enough\, we won't hold this meeting. <br><br>G
 avin</body></html>
END:VEVENT
END:VCALENDAR