BEGIN:VCALENDAR
PRODID:Zimbra-Calendar-Provider
VERSION:2.0
METHOD:CANCEL
BEGIN:VTIMEZONE
TZID:Europe/Berlin
BEGIN:STANDARD
DTSTART:16010101T030000
TZOFFSETTO:+0100
TZOFFSETFROM:+0200
RRULE:FREQ=YEARLY;WKST=MO;INTERVAL=1;BYMONTH=10;BYDAY=-1SU
TZNAME:CET
END:STANDARD
BEGIN:DAYLIGHT
DTSTART:16010101T020000
TZOFFSETTO:+0200
TZOFFSETFROM:+0100
RRULE:FREQ=YEARLY;WKST=MO;INTERVAL=1;BYMONTH=3;BYDAY=-1SU
TZNAME:CEST
END:DAYLIGHT
END:VTIMEZONE
BEGIN:VTIMEZONE
TZID:America/Los_Angeles
BEGIN:STANDARD
DTSTART:16010101T020000
TZOFFSETTO:-0800
TZOFFSETFROM:-0700
RRULE:FREQ=YEARLY;WKST=MO;INTERVAL=1;BYMONTH=11;BYDAY=1SU
TZNAME:PST
END:STANDARD
BEGIN:DAYLIGHT
DTSTART:16010101T020000
TZOFFSETTO:-0700
TZOFFSETFROM:-0800
RRULE:FREQ=YEARLY;WKST=MO;INTERVAL=1;BYMONTH=3;BYDAY=2SU
TZNAME:PDT
END:DAYLIGHT
END:VTIMEZONE
BEGIN:VEVENT
UID:8e263fd7-d88a-4e8a-bd88-f33791baf5ac
SUMMARY:Cancelled: desktop backlog team triage
COMMENT:A single instance of a recurring meeting has been cancelled.
LOCATION:Firefox vidyo room
ATTENDEE;CN=firefox-ux-team;ROLE=REQ-PARTICIPANT;PARTSTAT=NEEDS-ACTION:mailt
 o:firefox-ux-team@mozilla.com
ATTENDEE;CN=Benjamin Smedberg;ROLE=REQ-PARTICIPANT;PARTSTAT=NEEDS-ACTION:mai
 lto:bsmedberg@mozilla.com
ATTENDEE;CN=fx-desktop;ROLE=REQ-PARTICIPANT;PARTSTAT=NEEDS-ACTION:mailto:fx-
 desktop@mozilla.com
ATTENDEE;CN=Chad Weiner;ROLE=OPT-PARTICIPANT;PARTSTAT=DECLINED:mailto:cweine
 r@mozilla.com
ATTENDEE;CN=Jennifer Chaulk;ROLE=OPT-PARTICIPANT;PARTSTAT=NEEDS-ACTION:mailt
 o:jchaulk@mozilla.com
ATTENDEE;CN=Madhava Enros;ROLE=OPT-PARTICIPANT;PARTSTAT=NEEDS-ACTION:mailto:
 madhava@mozilla.com
ATTENDEE;CN=Marco Mucci;ROLE=OPT-PARTICIPANT;PARTSTAT=NEEDS-ACTION:mailto:mm
 ucci@mozilla.com
ATTENDEE;CN=firefox-dev;ROLE=OPT-PARTICIPANT;PARTSTAT=NEEDS-ACTION:mailto:fi
 refox-dev@mozilla.org
ATTENDEE;CN=Michael Hoye;PARTSTAT=ACCEPTED:mailto:mhoye@mozilla.com
ATTENDEE;CN=Dave Camp;CUTYPE=INDIVIDUAL;PARTSTAT=DECLINED:mailto:dcamp@mozil
 la.com
ATTENDEE;CN=Eric Shepherd;PARTSTAT=DECLINED:mailto:sheppy@mozilla.com
ATTENDEE;CN=Vincent Moutoussamy;PARTSTAT=ACCEPTED:mailto:vmoutoussamy@suse.c
 om
ORGANIZER;CN=Gavin Sharp:mailto:gavin@mozilla.com
DTSTART;TZID="Europe/Berlin":20140909T180000
DTEND;TZID="Europe/Berlin":20140909T183000
STATUS:CANCELLED
CLASS:PUBLIC
X-MICROSOFT-CDO-INTENDEDSTATUS:BUSY
TRANSP:OPAQUE
RECURRENCE-ID;TZID="Europe/Berlin":20140909T180000
LAST-MODIFIED:20140909T143753Z
DTSTAMP:20140909T143753Z
SEQUENCE:1
DESCRIPTION:A single instance of the following meeting has been cancelled:\n
 \nSubject: desktop backlog team triage \nOrganizer: "Gavin Sharp" <gavin@moz
 illa.com> \n\nLocation: Firefox vidyo room \nTime: Tuesday\, September 9\, 2
 014\, 6:00:00 PM - 6:30:00 PM GMT +01:00 Amsterdam\, Berlin\, Bern\, Rome\, 
 Stockholm\, Vienna\n \nRequired: firefox-ux-team@mozilla.com\; bsmedberg@moz
 illa.com\; fx-desktop@mozilla.com\; mhoye@mozilla.com\; dcamp@mozilla.com\; 
 sheppy@mozilla.com\; vmoutoussamy@suse.com \nOptional: cweiner@mozilla.com\;
  jchaulk@mozilla.com\; madhava@mozilla.com\; mmucci@mozilla.com\; firefox-de
 v@mozilla.org \n\n*~*~*~*~*~*~*~*~*~*\n\nThis is an optional meeting for any
 one interested in doing a group triage of the desktop backlog nomination que
 ue: \n\nhttps://bugzilla.mozilla.org/request.cgi?action=queue&type=firefox-b
 acklog \n\nThe goals are: \n- foster a shared understanding of what setting 
 firefox-backlog+ means \n- ensure that we triage the backlog nomination queu
 e in a timely fashion \n- provide an opportunity to discuss bugs that are ha
 rder to decide on with a larger group \n\nThe core dev team is of course wel
 come to triage nominations on their own outside of the meeting. If the queue
  is small enough\, we won't hold this meeting. \n\nGavin 
X-ALT-DESC;FMTTYPE=text/html:<html><body id='htmlmode'><h3>A single instance
  of the following meeting has been cancelled:</h3>\n\n<p>\n<table border='0'
 >\n<tr><th align=left>Subject:</th><td>desktop backlog team triage </td></tr
 >\n<tr><th align=left>Organizer:</th><td>"Gavin Sharp" &lt\;gavin@mozilla.co
 m&gt\; </td></tr>\n</table>\n<p>\n<table border='0'>\n<tr><th align=left>Loc
 ation:</th><td>Firefox vidyo room </td></tr>\n<tr><th align=left>Time:</th><
 td>Tuesday\, September 9\, 2014\, 6:00:00 PM - 6:30:00 PM GMT +01:00 Amsterd
 am\, Berlin\, Bern\, Rome\, Stockholm\, Vienna\n </td></tr></table>\n<p>\n<t
 able border='0'>\n<tr><th align=left>Required:</th><td>firefox-ux-team@mozil
 la.com\; bsmedberg@mozilla.com\; fx-desktop@mozilla.com\; mhoye@mozilla.com\
 ; dcamp@mozilla.com\; sheppy@mozilla.com\; vmoutoussamy@suse.com </td></tr>\
 n<tr><th align=left>Optional:</th><td>cweiner@mozilla.com\; jchaulk@mozilla.
 com\; madhava@mozilla.com\; mmucci@mozilla.com\; firefox-dev@mozilla.org </t
 d></tr></table>\n<div>*~*~*~*~*~*~*~*~*~*</div><br>This is an optional meeti
 ng for anyone interested in doing a group triage of the desktop backlog nomi
 nation queue: <br><br>https://bugzilla.mozilla.org/request.cgi?action=queue&
 amp\;type=firefox-backlog <br><br>The goals are: <br>- foster a shared under
 standing of what setting firefox-backlog+ means <br>- ensure that we triage 
 the backlog nomination queue in a timely fashion <br>- provide an opportunit
 y to discuss bugs that are harder to decide on with a larger group <br><br>T
 he core dev team is of course welcome to triage nominations on their own out
 side of the meeting. If the queue is small enough\, we won't hold this meeti
 ng. <br><br>Gavin</body></html>
END:VEVENT
END:VCALENDAR