BEGIN:VCALENDAR
PRODID:Zimbra-Calendar-Provider
VERSION:2.0
METHOD:CANCEL
BEGIN:VTIMEZONE
TZID:America/Los_Angeles
BEGIN:STANDARD
DTSTART:16010101T020000
TZOFFSETTO:-0800
TZOFFSETFROM:-0700
RRULE:FREQ=YEARLY;WKST=MO;INTERVAL=1;BYMONTH=11;BYDAY=1SU
TZNAME:PST
END:STANDARD
BEGIN:DAYLIGHT
DTSTART:16010101T020000
TZOFFSETTO:-0700
TZOFFSETFROM:-0800
RRULE:FREQ=YEARLY;WKST=MO;INTERVAL=1;BYMONTH=3;BYDAY=2SU
TZNAME:PDT
END:DAYLIGHT
END:VTIMEZONE
BEGIN:VEVENT
UID:8e263fd7-d88a-4e8a-bd88-f33791baf5ac
SUMMARY:Cancelled: desktop backlog team triage
COMMENT:A single instance of a recurring meeting has been cancelled.
LOCATION:Firefox vidyo room
ATTENDEE;CN=firefox-ux-team;ROLE=REQ-PARTICIPANT;PARTSTAT=NEEDS-ACTION:mailt
 o:firefox-ux-team@mozilla.com
ATTENDEE;CN=Benjamin Smedberg;ROLE=REQ-PARTICIPANT;PARTSTAT=NEEDS-ACTION:mai
 lto:bsmedberg@mozilla.com
ATTENDEE;CN=fx-desktop;ROLE=REQ-PARTICIPANT;PARTSTAT=NEEDS-ACTION:mailto:fx-
 desktop@mozilla.com
ATTENDEE;CN=Chad Weiner;ROLE=OPT-PARTICIPANT;PARTSTAT=NEEDS-ACTION:mailto:cw
 einer@mozilla.com
ATTENDEE;CN=Jennifer Chaulk;ROLE=OPT-PARTICIPANT;PARTSTAT=NEEDS-ACTION:mailt
 o:jchaulk@mozilla.com
ATTENDEE;CN=Madhava Enros;ROLE=OPT-PARTICIPANT;PARTSTAT=NEEDS-ACTION:mailto:
 madhava@mozilla.com
ATTENDEE;CN=Marco Mucci;ROLE=OPT-PARTICIPANT;PARTSTAT=NEEDS-ACTION:mailto:mm
 ucci@mozilla.com
ATTENDEE;CN=firefox-dev;ROLE=OPT-PARTICIPANT;PARTSTAT=NEEDS-ACTION:mailto:fi
 refox-dev@mozilla.org
ATTENDEE;CN=Michael Hoye;PARTSTAT=ACCEPTED:mailto:mhoye@mozilla.com
ATTENDEE;CN=Dave Camp;CUTYPE=INDIVIDUAL;PARTSTAT=DECLINED:mailto:dcamp@mozil
 la.com
ATTENDEE;CN=Eric Shepherd;PARTSTAT=DECLINED:mailto:sheppy@mozilla.com
ATTENDEE;CN=Vincent Moutoussamy;PARTSTAT=ACCEPTED:mailto:vmoutoussamy@suse.c
 om
ORGANIZER;CN=Gavin Sharp:mailto:gavin@mozilla.com
DTSTART;TZID="America/Los_Angeles":20140902T090000
DTEND;TZID="America/Los_Angeles":20140902T093000
STATUS:CANCELLED
CLASS:PUBLIC
X-MICROSOFT-CDO-INTENDEDSTATUS:BUSY
TRANSP:OPAQUE
RECURRENCE-ID;TZID="America/Los_Angeles":20140902T090000
LAST-MODIFIED:20140826T161819Z
DTSTAMP:20140826T161819Z
SEQUENCE:1
DESCRIPTION:A single instance of the following meeting has been cancelled:\n
 \nSubject: desktop backlog team triage \nOrganizer: "Gavin Sharp" <gavin@moz
 illa.com> \n\nLocation: Firefox vidyo room \nTime: Tuesday\, September 2\, 2
 014\, 9:00:00 AM - 9:30:00 AM GMT -08:00 US/Canada Pacific\n \nRequired: fir
 efox-ux-team@mozilla.com\; bsmedberg@mozilla.com\; fx-desktop@mozilla.com\; 
 mhoye@mozilla.com\; dcamp@mozilla.com\; sheppy@mozilla.com\; vmoutoussamy@su
 se.com \nOptional: cweiner@mozilla.com\; jchaulk@mozilla.com\; madhava@mozil
 la.com\; mmucci@mozilla.com\; firefox-dev@mozilla.org \n\n*~*~*~*~*~*~*~*~*~
 *\n\nCancelling this instance of the weekly backlog team triage since the te
 am will be at a work week in Toronto.\n\nGavin
END:VEVENT
END:VCALENDAR