BEGIN:VCALENDAR
PRODID:Zimbra-Calendar-Provider
VERSION:2.0
METHOD:REQUEST
BEGIN:VTIMEZONE
TZID:America/Los_Angeles
BEGIN:STANDARD
DTSTART:16010101T020000
TZOFFSETTO:-0800
TZOFFSETFROM:-0700
RRULE:FREQ=YEARLY;WKST=MO;INTERVAL=1;BYMONTH=11;BYDAY=1SU
TZNAME:PST
END:STANDARD
BEGIN:DAYLIGHT
DTSTART:16010101T020000
TZOFFSETTO:-0700
TZOFFSETFROM:-0800
RRULE:FREQ=YEARLY;WKST=MO;INTERVAL=1;BYMONTH=3;BYDAY=2SU
TZNAME:PDT
END:DAYLIGHT
END:VTIMEZONE
BEGIN:VEVENT
UID:8e263fd7-d88a-4e8a-bd88-f33791baf5ac
RRULE:FREQ=WEEKLY;INTERVAL=1
SUMMARY:desktop backlog team triage
LOCATION:Firefox vidyo room
ATTENDEE;CN=firefox-ux-team;ROLE=REQ-PARTICIPANT;PARTSTAT=NEEDS-ACTION;RSVP=
 FALSE:mailto:firefox-ux-team@mozilla.com
ATTENDEE;CN=Benjamin Smedberg;ROLE=REQ-PARTICIPANT;PARTSTAT=NEEDS-ACTION;RSV
 P=FALSE:mailto:bsmedberg@mozilla.com
ATTENDEE;CN=fx-desktop;ROLE=REQ-PARTICIPANT;PARTSTAT=NEEDS-ACTION;RSVP=FALSE
 :mailto:fx-desktop@mozilla.com
ATTENDEE;CN=Chad Weiner;ROLE=OPT-PARTICIPANT;PARTSTAT=NEEDS-ACTION;RSVP=FALS
 E:mailto:cweiner@mozilla.com
ATTENDEE;CN=Jennifer Chaulk;ROLE=OPT-PARTICIPANT;PARTSTAT=NEEDS-ACTION;RSVP=
 FALSE:mailto:jchaulk@mozilla.com
ATTENDEE;CN=Madhava Enros;ROLE=OPT-PARTICIPANT;PARTSTAT=NEEDS-ACTION;RSVP=FA
 LSE:mailto:madhava@mozilla.com
ATTENDEE;CN=Marco Mucci;ROLE=OPT-PARTICIPANT;PARTSTAT=NEEDS-ACTION;RSVP=FALS
 E:mailto:mmucci@mozilla.com
ATTENDEE;CN=firefox-dev;ROLE=OPT-PARTICIPANT;PARTSTAT=NEEDS-ACTION;RSVP=FALS
 E:mailto:firefox-dev@mozilla.org
ORGANIZER;CN=Gavin Sharp:mailto:gavin@mozilla.com
DTSTART;TZID="America/Los_Angeles":20140812T090000
DTEND;TZID="America/Los_Angeles":20140812T093000
STATUS:CONFIRMED
CLASS:PUBLIC
X-MICROSOFT-CDO-INTENDEDSTATUS:BUSY
TRANSP:OPAQUE
LAST-MODIFIED:20140812T221718Z
DTSTAMP:20140812T221718Z
SEQUENCE:0
DESCRIPTION:The following is a new meeting request:\n\nSubject: desktop back
 log team triage \nOrganizer: "Gavin Sharp" <gavin@mozilla.com> \n\nLocation:
  Firefox vidyo room \nTime: 9:00:00 AM - 9:30:00 AM GMT -08:00 US/Canada Pac
 ific\n Recurrence : Every Tuesday No end date Effective Aug 12\, 2014\n\nReq
 uired: firefox-ux-team@mozilla.com\; bsmedberg@mozilla.com\; fx-desktop@mozi
 lla.com \nOptional: cweiner@mozilla.com\; jchaulk@mozilla.com\; madhava@mozi
 lla.com\; mmucci@mozilla.com\; firefox-dev@mozilla.org \n\n*~*~*~*~*~*~*~*~*
 ~*\n\nThis is an optional meeting for anyone interested in doing a group tri
 age of the desktop backlog nomination queue: \n\nhttps://bugzilla.mozilla.or
 g/request.cgi?action=queue&type=firefox-backlog \n\nThe goals are: \n- foste
 r a shared understanding of what setting firefox-backlog+ means \n- ensure t
 hat we triage the backlog nomination queue in a timely fashion \n- provide a
 n opportunity to discuss bugs that are harder to decide on with a larger gro
 up \n\nThe core dev team is of course welcome to triage nominations on their
  own outside of the meeting. If the queue is small enough\, we won't hold th
 is meeting. \n\nGavin
BEGIN:VALARM
ACTION:DISPLAY
TRIGGER;RELATED=START:-PT5M
DESCRIPTION:Reminder
END:VALARM
END:VEVENT
END:VCALENDAR