BEGIN:VCALENDAR
PRODID:Zimbra-Calendar-Provider
VERSION:2.0
METHOD:REQUEST
BEGIN:VTIMEZONE
TZID:America/New_York
BEGIN:STANDARD
DTSTART:19710101T020000
TZOFFSETTO:-0500
TZOFFSETFROM:-0400
RRULE:FREQ=YEARLY;WKST=MO;INTERVAL=1;BYMONTH=11;BYDAY=1SU
TZNAME:EST
END:STANDARD
BEGIN:DAYLIGHT
DTSTART:19710101T020000
TZOFFSETTO:-0400
TZOFFSETFROM:-0500
RRULE:FREQ=YEARLY;WKST=MO;INTERVAL=1;BYMONTH=3;BYDAY=2SU
TZNAME:EDT
END:DAYLIGHT
END:VTIMEZONE
BEGIN:VEVENT
UID:a26ea61b-f9e9-46bf-9ce7-fe78c3605ae5
SUMMARY:Firefox Bug Triage (Important: Please triage your bugs *before* the 
 meeting)
LOCATION:Firefox vidyo room
ATTENDEE;CN=Elizabeth Henry;ROLE=REQ-PARTICIPANT;PARTSTAT=NEEDS-ACTION;RSVP=
 TRUE:mailto:lizzard@mozilla.com
ATTENDEE;CN=Mike Connor;ROLE=REQ-PARTICIPANT;PARTSTAT=NEEDS-ACTION;RSVP=TRUE
 :mailto:mconnor@mozilla.com
ATTENDEE;CN=Gavin Sharp;ROLE=REQ-PARTICIPANT;PARTSTAT=NEEDS-ACTION;RSVP=TRUE
 :mailto:gavin@mozilla.com
ATTENDEE;CN=Jennifer Boriss;ROLE=REQ-PARTICIPANT;PARTSTAT=NEEDS-ACTION;RSVP=
 TRUE:mailto:jboriss@mozilla.com
ATTENDEE;CN=Marco Bonardo;ROLE=REQ-PARTICIPANT;PARTSTAT=NEEDS-ACTION;RSVP=TR
 UE:mailto:mbonardo@mozilla.com
ATTENDEE;CN=firefox-dev;ROLE=OPT-PARTICIPANT;PARTSTAT=NEEDS-ACTION;RSVP=TRUE
 :mailto:firefox-dev@mozilla.org
ORGANIZER;CN=Jared Wein:mailto:jwein@mozilla.com
DTSTART;TZID="America/New_York":20130227T110000
DTEND;TZID="America/New_York":20130227T120000
STATUS:CONFIRMED
CLASS:PUBLIC
X-MICROSOFT-CDO-INTENDEDSTATUS:BUSY
TRANSP:OPAQUE
LAST-MODIFIED:20130225T222852Z
DTSTAMP:20130225T222852Z
SEQUENCE:1
DESCRIPTION:The following meeting has been modified:\n\nSubject: Firefox Bug
  Triage (Important: Please triage your bugs *before* the meeting) \nOrganize
 r: "Jared Wein" <jwein@mozilla.com> \n\nLocation: Firefox vidyo room \nTime:
  Wednesday\, February 27\, 2013\, 11:00:00 AM - 12:00:00 PM GMT -05:00 US/Ca
 nada Eastern [MODIFIED]\n \nRequired: lizzard@mozilla.com\; mconnor@mozilla.
 com\; gavin@mozilla.com\; jboriss@mozilla.com\; mbonardo@mozilla.com \nOptio
 nal: firefox-dev@mozilla.org \n\n*~*~*~*~*~*~*~*~*~*\n\nIMPORTANT NOTE: This
  meeting is intended to discuss bugs that do not have clear path forward. Pl
 ease triage your bugs before the meeting. \n\nIn the first two triage meetin
 gs we closed 176 bugs! \n\nThis triage is focused on NEW bugs in the Firefox
 ::{Menus\, Microsummaries\, Migration\, Page Info Window} component. The goa
 l of this triage is to look at old bugs and either: \n* Resolve as fixed (fi
 xed through some other means)\, wontfix\, or invalid\, \n* Move to different
  component\, or \n* Leave as-is (hopefully in that order). \n\nBug list: htt
 p://bit.ly/12YbkA7 (173 bugs) \n\nIMPORTANT!!! The etherpad already has the 
 bugs split up to reduce overlap between people: \nhttps://etherpad.mozilla.o
 rg/firefox-triage 
X-ALT-DESC;FMTTYPE=text/html:<html><body><h3>The following meeting has been 
 modified:</h3>\n\n<p>\n<table border='0'>\n<tr><th align=left>Subject:</th><
 td>Firefox Bug Triage (Important: Please triage your bugs *before* the meeti
 ng) </td></tr>\n<tr><th align=left>Organizer:</th><td>"Jared Wein" &lt\;jwei
 n@mozilla.com&gt\; </td></tr>\n</table>\n<p>\n<table border='0'>\n<tr><th al
 ign=left>Location:</th><td>Firefox vidyo room </td></tr>\n<tr><th align=left
 >Time:</th><td>Wednesday\, February 27\, 2013\, 11:00:00 AM - 12:00:00 PM GM
 T -05:00 US/Canada Eastern [MODIFIED]\n </td></tr></table>\n<p>\n<table bord
 er='0'>\n<tr><th align=left>Required:</th><td>lizzard@mozilla.com\; mconnor@
 mozilla.com\; gavin@mozilla.com\; jboriss@mozilla.com\; mbonardo@mozilla.com
  </td></tr>\n<tr><th align=left>Optional:</th><td>firefox-dev@mozilla.org </
 td></tr></table>\n<div>*~*~*~*~*~*~*~*~*~*</div><br>IMPORTANT NOTE: This mee
 ting is intended to discuss bugs that do not have clear path forward. Please
  triage your bugs before the meeting. <br><br>In the first two triage meetin
 gs we closed 176 bugs! <br><br>This triage is focused on NEW bugs in the Fir
 efox::{Menus\, Microsummaries\, Migration\, Page Info Window} component. The
  goal of this triage is to look at old bugs and either: <br>* Resolve as fix
 ed (fixed through some other means)\, wontfix\, or invalid\, <br>* Move to d
 ifferent component\, or <br>* Leave as-is (hopefully in that order). <br><br
 >Bug list: http://bit.ly/12YbkA7 (173 bugs) <br><br>IMPORTANT!!! The etherpa
 d already has the bugs split up to reduce overlap between people: <br>https:
 //etherpad.mozilla.org/firefox-triage </body></html>
BEGIN:VALARM
ACTION:DISPLAY
TRIGGER;RELATED=START:-PT5M
DESCRIPTION:Reminder
END:VALARM
END:VEVENT
END:VCALENDAR