BEGIN:VCALENDAR
PRODID:-//Mozilla.org/NONSGML Mozilla Calendar V1.1//EN
VERSION:2.0
METHOD:REQUEST
BEGIN:VTIMEZONE
TZID:America/New_York
X-LIC-LOCATION:America/New_York
BEGIN:DAYLIGHT
TZOFFSETFROM:-0500
TZOFFSETTO:-0400
TZNAME:EDT
DTSTART:19700308T020000
RRULE:FREQ=YEARLY;BYDAY=2SU;BYMONTH=3
END:DAYLIGHT
BEGIN:STANDARD
TZOFFSETFROM:-0400
TZOFFSETTO:-0500
TZNAME:EST
DTSTART:19701101T020000
RRULE:FREQ=YEARLY;BYDAY=1SU;BYMONTH=11
END:STANDARD
END:VTIMEZONE
BEGIN:VEVENT
LAST-MODIFIED:20130222T210549Z
DTSTAMP:20130222T210549Z
UID:a26ea61b-f9e9-46bf-9ce7-fe78c3605ae5
SUMMARY:Firefox Bug Triage (Important: Please triage your bugs *before* th
 e meeting)
STATUS:CONFIRMED
ORGANIZER;CN=Jared Wein;SENT-BY="mailto:mconley@mozilla.com":mailto:jwein@
 mozilla.com
ATTENDEE;RSVP=TRUE;CN=Elizabeth Henry;PARTSTAT=NEEDS-ACTION;ROLE=REQ-PARTI
 CIPANT:mailto:lizzard@mozilla.com
ATTENDEE;RSVP=TRUE;CN=firefox-dev;PARTSTAT=NEEDS-ACTION;ROLE=OPT-PARTICIPA
 NT:mailto:firefox-dev@mozilla.org
DTSTART;TZID=America/New_York:20130312T120000
DTEND;TZID=America/New_York:20130312T130000
DESCRIPTION:IMPORTANT NOTE: This meeting is intended to discuss bugs that 
 do not have clear path forward. Please triage your bugs before the meeting
 .\n\nIn the first two triage meetings we closed 176 bugs!\n\nThis triage i
 s focused on NEW bugs in the Firefox::{Menus\, Microsummaries\, Migration\
 , Page Info Window} component. The goal of this triage is to look at old b
 ugs and either: \n* Resolve as fixed (fixed through some other means)\, wo
 ntfix\, or invalid\, \n* Move to different component\, or \n* Leave as-is 
 (hopefully in that order). \n\nBug list: http://bit.ly/12YbkA7 (173 bugs)\
 n\nIMPORTANT!!! The etherpad already has the bugs split up to reduce overl
 ap between people: \nhttps://etherpad.mozilla.org/firefox-triage
LOCATION:Firefox vidyo room
X-MS-OLK-SENDER:mailto:mconley@mozilla.com
CLASS:PUBLIC
TRANSP:OPAQUE
SEQUENCE:0
END:VEVENT
END:VCALENDAR

