BEGIN:VCALENDAR
PRODID:Zimbra-Calendar-Provider
VERSION:2.0
METHOD:REQUEST
BEGIN:VTIMEZONE
TZID:America/New_York
BEGIN:STANDARD
DTSTART:19710101T020000
TZOFFSETTO:-0500
TZOFFSETFROM:-0400
RRULE:FREQ=YEARLY;WKST=MO;INTERVAL=1;BYMONTH=11;BYDAY=1SU
TZNAME:EST
END:STANDARD
BEGIN:DAYLIGHT
DTSTART:19710101T020000
TZOFFSETTO:-0400
TZOFFSETFROM:-0500
RRULE:FREQ=YEARLY;WKST=MO;INTERVAL=1;BYMONTH=3;BYDAY=2SU
TZNAME:EDT
END:DAYLIGHT
END:VTIMEZONE
BEGIN:VEVENT
UID:a26ea61b-f9e9-46bf-9ce7-fe78c3605ae5
SUMMARY:Firefox Bug Triage (Important: Please triage your bugs *before* the 
 meeting)
LOCATION:Firefox vidyo room
ATTENDEE;CN=Elizabeth Henry;ROLE=REQ-PARTICIPANT;PARTSTAT=NEEDS-ACTION;RSVP=
 TRUE:mailto:lizzard@mozilla.com
ATTENDEE;CN=firefox-dev;ROLE=OPT-PARTICIPANT;PARTSTAT=NEEDS-ACTION;RSVP=TRUE
 :mailto:firefox-dev@mozilla.org
ORGANIZER;CN=Jared Wein:mailto:jwein@mozilla.com
DTSTART;TZID="America/New_York":20130312T120000
DTEND;TZID="America/New_York":20130312T130000
STATUS:CONFIRMED
CLASS:PUBLIC
X-MICROSOFT-CDO-INTENDEDSTATUS:BUSY
TRANSP:OPAQUE
LAST-MODIFIED:20130222T203129Z
DTSTAMP:20130222T203129Z
SEQUENCE:0
DESCRIPTION:The following is a new meeting request:\n\nSubject: Firefox Bug 
 Triage (Important: Please triage your bugs *before* the meeting) \nOrganizer
 : "Jared Wein" <jwein@mozilla.com> \n\nLocation: Firefox vidyo room \nTime: 
 Tuesday\, March 12\, 2013\, 12:00:00 PM - 1:00:00 PM GMT -05:00 US/Canada Ea
 stern\n \nRequired: lizzard@mozilla.com \nOptional: firefox-dev@mozilla.org 
 \n\n*~*~*~*~*~*~*~*~*~*\n\nIMPORTANT NOTE: This meeting is intended to discu
 ss bugs that do not have clear path forward. Please triage your bugs before 
 the meeting.\n\nIn the first two triage meetings we closed 176 bugs!\n\nThis
  triage is focused on NEW bugs in the Firefox::{Menus\, Microsummaries\, Mig
 ration\, Page Info Window} component. The goal of this triage is to look at 
 old bugs and either: \n* Resolve as fixed (fixed through some other means)\,
  wontfix\, or invalid\, \n* Move to different component\, or \n* Leave as-is
  (hopefully in that order). \n\nBug list: http://bit.ly/12YbkA7 (173 bugs)\n
 \nIMPORTANT!!! The etherpad already has the bugs split up to reduce overlap 
 between people: \nhttps://etherpad.mozilla.org/firefox-triage 
X-ALT-DESC;FMTTYPE=text/html:<html><body><h3>The following is a new meeting 
 request:</h3>\n\n<p>\n<table border='0'>\n<tr><th align=left>Subject:</th><t
 d>Firefox Bug Triage (Important: Please triage your bugs *before* the meetin
 g) </td></tr>\n<tr><th align=left>Organizer:</th><td>"Jared Wein" &lt\;jwein
 @mozilla.com&gt\; </td></tr>\n</table>\n<p>\n<table border='0'>\n<tr><th ali
 gn=left>Location:</th><td>Firefox vidyo room </td></tr>\n<tr><th align=left>
 Time:</th><td>Tuesday\, March 12\, 2013\, 12:00:00 PM - 1:00:00 PM GMT -05:0
 0 US/Canada Eastern\n </td></tr></table>\n<p>\n<table border='0'>\n<tr><th a
 lign=left>Required:</th><td>lizzard@mozilla.com </td></tr>\n<tr><th align=le
 ft>Optional:</th><td>firefox-dev@mozilla.org </td></tr></table>\n<div>*~*~*~
 *~*~*~*~*~*~*</div><br>IMPORTANT NOTE: This meeting is intended to discuss b
 ugs that do not have clear path forward. Please triage your bugs before the 
 meeting.<br><br>In the first two triage meetings we closed 176 bugs!<br><br>
 This triage is focused on NEW bugs in the Firefox::{Menus\, Microsummaries\,
  Migration\, Page Info Window} component. The goal of this triage is to look
  at old bugs and either: <br>* Resolve as fixed (fixed through some other me
 ans)\, wontfix\, or invalid\, <br>* Move to different component\, or <br>* L
 eave as-is (hopefully in that order). <br><br>Bug list: http://bit.ly/12YbkA
 7 (173 bugs)<br><br>IMPORTANT!!! The etherpad already has the bugs split up 
 to reduce overlap between people: <br>https://etherpad.mozilla.org/firefox-t
 riage </body></html>
BEGIN:VALARM
ACTION:DISPLAY
TRIGGER;RELATED=START:-PT5M
DESCRIPTION:Reminder
END:VALARM
END:VEVENT
END:VCALENDAR