BEGIN:VCALENDAR
PRODID:Zimbra-Calendar-Provider
VERSION:2.0
METHOD:REQUEST
BEGIN:VTIMEZONE
TZID:America/Los_Angeles
BEGIN:STANDARD
DTSTART:16010101T020000
TZOFFSETTO:-0800
TZOFFSETFROM:-0700
RRULE:FREQ=YEARLY;WKST=MO;INTERVAL=1;BYMONTH=11;BYDAY=1SU
TZNAME:PST
END:STANDARD
BEGIN:DAYLIGHT
DTSTART:16010101T020000
TZOFFSETTO:-0700
TZOFFSETFROM:-0800
RRULE:FREQ=YEARLY;WKST=MO;INTERVAL=1;BYMONTH=3;BYDAY=2SU
TZNAME:PDT
END:DAYLIGHT
END:VTIMEZONE
BEGIN:VEVENT
UID:c11e95a3-8653-46db-b36d-33821c7192e4
SUMMARY:The Architecture of Open Source Applications\, Volume I
LOCATION:Margaret's Vidyo Room
ATTENDEE;ROLE=REQ-PARTICIPANT;PARTSTAT=NEEDS-ACTION;RSVP=TRUE:mailto:dev-rea
 ding@mozilla.org
ORGANIZER;CN=Margaret Leibovic:mailto:mleibovic@mozilla.com
DTSTART;TZID="America/Los_Angeles":20130906T110000
DTEND;TZID="America/Los_Angeles":20130906T120000
STATUS:CONFIRMED
CLASS:PUBLIC
X-MICROSOFT-CDO-INTENDEDSTATUS:BUSY
TRANSP:OPAQUE
LAST-MODIFIED:20130905T145458Z
DTSTAMP:20130905T145458Z
SEQUENCE:1
DESCRIPTION:The following is a new meeting request:\n\nSubject: The Architec
 ture of Open Source Applications\, Volume I \nOrganizer: "Margaret Leibovic"
  <mleibovic@mozilla.com> \n\nLocation: Margaret's Vidyo Room \nTime: Friday\
 , September 6\, 2013\, 11:00:00 AM - 12:00:00 PM GMT -08:00 US/Canada Pacifi
 c\n \nInvitees: dev-reading@mozilla.org \n\n\n*~*~*~*~*~*~*~*~*~*\n\nHi all\
 ,\n\nThis is a reminder that we'll be meeting tomorrow to discuss these chap
 ters from the AOSA book:\n\n* http://www.aosabook.org/en/bdb.html\n* http://
 www.aosabook.org/en/llvm.html\n* http://www.aosabook.org/en/mercurial.html\n
 * http://www.aosabook.org/en/sendmail.html\n\nHere's a guest link to my Vidy
 o room that you can use if you don't have a Mozilla LDAP account:\nhttps://v
 .mozilla.com/flex.html?roomdirect.html&key=YdKxNprWsLJ6\n\nThe discussion wi
 ll be relatively informal\, so don't feel pressure to be highly prepared. Yo
 u're welcome to join if you've even just read one of these chapters (which y
 ou can definitely do in under an hour!). Here's the etherpad for notes:\nhtt
 ps://etherpad.mozilla.org/aosa\n\nBest\,\nMargaret
BEGIN:VALARM
ACTION:DISPLAY
TRIGGER;RELATED=START:-PT5M
DESCRIPTION:Reminder
END:VALARM
END:VEVENT
END:VCALENDAR