BEGIN:VCALENDAR
PRODID:Zimbra-Calendar-Provider
VERSION:2.0
METHOD:REQUEST
BEGIN:VTIMEZONE
TZID:America/New_York
BEGIN:STANDARD
DTSTART:16010101T020000
TZOFFSETTO:-0500
TZOFFSETFROM:-0400
RRULE:FREQ=YEARLY;WKST=MO;INTERVAL=1;BYMONTH=11;BYDAY=1SU
TZNAME:EST
END:STANDARD
BEGIN:DAYLIGHT
DTSTART:16010101T020000
TZOFFSETTO:-0400
TZOFFSETFROM:-0500
RRULE:FREQ=YEARLY;WKST=MO;INTERVAL=1;BYMONTH=3;BYDAY=2SU
TZNAME:EDT
END:DAYLIGHT
END:VTIMEZONE
BEGIN:VEVENT
UID:88a43806-1390-4403-87e3-258c1a5fe5cd
SUMMARY:SecReview:Firefox Account + Sync
LOCATION:"MTV-3V Very Good Very Mighty" <3v@mozilla.com>\; "SFO 324 Bay Brid
 ge" <sfo324@mozilla.com>
ORGANIZER;CN=Curtis Koenig;SENT-BY="mailto:ckoenig@mozilla.com":mailto:ckoen
 ig@mozilla.com
DTSTART;TZID="America/New_York":20131212T130000
DTEND;TZID="America/New_York":20131212T140000
STATUS:CONFIRMED
CLASS:PUBLIC
X-MICROSOFT-CDO-INTENDEDSTATUS:BUSY
TRANSP:OPAQUE
RECURRENCE-ID;TZID="America/New_York":20131212T130000
LAST-MODIFIED:20131206T191615Z
DTSTAMP:20131206T191615Z
SEQUENCE:8
X-MS-OLK-SENDER:mailto:ckoenig@mozilla.com
ATTENDEE;PARTSTAT=NEEDS-ACTION;RSVP=TRUE:mailto:dev-fxacct@mozilla.org
DESCRIPTION:The following meeting has been modified:\n\nSubject: Fwd: SecRev
 iew:Firefox Account + Sync [MODIFIED]\nOrganizer: "Curtis Koenig" <ckoenig@m
 ozilla.com> \n\nLocation: "MTV-3V Very Good Very Mighty" <3v@mozilla.com>\; 
 "SFO 324 Bay Bridge" <sfo324@mozilla.com> \nResources: "MTV-3V Very Good Ver
 y Mighty" <3v@mozilla.com>\; "SFO 324 Bay Bridge" <sfo324@mozilla.com> \nTim
 e: Thursday\, December 12\, 2013\, 1:00:00 PM - 2:00:00 PM GMT -05:00 US/Can
 ada Eastern\n \nRequired: dchan@mozilla.com\; ptheriault@mozilla.com\; ckarl
 of@mozilla.com\; bwarner@mozilla.com\; dcoates@mozilla.com\; dev-fxacct@mozi
 lla.org \nOptional: abillings@mozilla.com\; amuntner@mozilla.com\; cdiehl@mo
 zilla.com\; choller@mozilla.com\; cruetten@mozilla.com\; curtisk@mozilla.com
 \; dveditz@mozilla.com\; fbraun@mozilla.com\; gdestuynder@mozilla.com\; gkwo
 ng@mozilla.com\; jbryner@mozilla.com ... \n\n*~*~*~*~*~*~*~*~*~*\n\nFYI for 
 anyone else that would like to attend and/or participate\n\n----- Original A
 ppointment -----\nSubject: Fwd: SecReview:Firefox Account + Sync \nOrganizer
 : "Curtis Koenig" <ckoenig@mozilla.com> \n\nLocation: "MTV-3V Very Good Very
  Mighty" <3v@mozilla.com>\; "SFO 324 Bay Bridge" <sfo324@mozilla.com> \nReso
 urces: "MTV-3V Very Good Very Mighty" <3v@mozilla.com>\; "SFO 324 Bay Bridge
 " <sfo324@mozilla.com> \nTime: Thursday\, December 12\, 2013\, 1:00:00 PM - 
 2:00:00 PM GMT -05:00 US/Canada Eastern\n \nRequired: dchan@mozilla.com\; pt
 heriault@mozilla.com\; ckarlof@mozilla.com\; bwarner@mozilla.com\; dcoates@m
 ozilla.com \nOptional: abillings@mozilla.com\; amuntner@mozilla.com\; cdiehl
 @mozilla.com\; choller@mozilla.com\; cruetten@mozilla.com\; curtisk@mozilla.
 com\; dveditz@mozilla.com\; fbraun@mozilla.com\; gdestuynder@mozilla.com\; g
 kwong@mozilla.com\; jbryner@mozilla.com ... \n\n*~*~*~*~*~*~*~*~*~*\n\n\nMee
 ting Details: \n* Thu 12-Dec-2013 1000 AM PST \n- http://arewemeetingyet.com
 /Los%20Angeles/2013-12-12/10:00/SecReview:%20Firefox%20Account%20%2B%20Sync 
 \n* Where: \n- MTV: 3V - Very Good Very Mighty \n- SFO: 324 - Bay Bridge \n\
 n- Vidyo(9710) secreview [https://v.mozilla.com/flex.html?roomdirect.html&ke
 y=EEtiuXn8C5EP] \n\n* IRC Channel: #security \n* Etherpad: http://etherpad.m
 ozilla.com/secreview \n\n* Dial-in Info (phone): \n- In office or soft phone
 : extension 92 \n- US/INTL: 650-903-0800 or 650-215-1282 then extension 92 \
 n- Toronto: 416-848-3114 then extension 92 \n- Toll-free: 800-707-2533 then 
 password 369 \n- Conference num 99710 \n\nItems to be reviewed: \nhttps://bu
 gzilla.mozilla.org/show_bug.cgi?id=909491 \n\nAgenda: \n* Introduce Feature 
 (5-10 minutes) [can be answered ahead of time to save meeting time] \n- Goal
  of Feature\, what is trying to be achieved (problem solved\, use cases\, et
 c) \n- What solutions/approaches were considered other than the proposed sol
 ution? \n- Why was this solution chosen? \n- Any security threats already co
 nsidered in the design and why? \n* Threat Brainstorming (30-40 minutes) \n*
  Conclusions / Action Items (10-20 minutes) 
BEGIN:VALARM
ACTION:DISPLAY
TRIGGER;RELATED=START:-PT5M
DESCRIPTION:Reminder
X-WR-ALARMUID:7E0C96A7-F57F-4C9A-AC21-1715C1D2AD52
END:VALARM
END:VEVENT
END:VCALENDAR